{"text_format":"1","workbook":"xlsx","n_sheets":4,"sheets":["Cestovní příkaz","Doplnění CP","Seznam","Data"],"not_rendered":{"charts":0,"images":2,"macros":1,"external_links":0,"defined_names":2,"comments":0,"pivot_tables":0},"unopened":[],"bounds":{"document_bytes":16777216,"sheet_cells":100000,"rows_first":2000,"rows_last":500,"rows_between":2000,"halvings":0,"cell_chars":16384,"cell_head_chars":4096},"cells_cut":0,"cells_raw":0,"read":"whole","date_system":"1900"}

{"sheet":"Cestovní příkaz","index":0,"n_rows":59,"n_cols":29,"rows_kept":59,"cut":false,"hidden":false,"merged":[[33,12,34,12],[35,12,36,12],[37,12,38,12],[35,10,36,10],[35,15,36,15],[37,15,38,15],[39,15,40,15],[41,15,42,15],[33,14,34,14],[35,14,36,14],[37,14,38,14],[39,14,40,14],[41,14,42,14],[46,8,46,15],[48,1,48,2],[49,1,49,2],[50,1,50,2],[51,1,51,2],[48,3,48,5],[49,3,49,5],[50,3,50,5],[51,4,51,5],[47,1,47,9],[47,10,47,15],[10,1,10,3],[12,1,12,6],[10,4,10,15],[12,7,12,15],[13,1,13,3],[13,7,13,8],[13,4,13,6],[13,9,13,10],[11,13,11,15],[11,1,11,10],[11,11,11,12],[0,1,0,15],[7,14,7,15],[8,1,8,8],[7,1,7,2],[4,1,4,3],[5,1,5,3],[4,8,4,11],[6,12,6,15],[1,12,1,13],[2,12,2,13],[6,9,6,11],[7,12,7,13],[3,12,3,13],[3,14,3,15],[4,12,4,15],[7,9,7,11],[5,8,5,11],[6,1,6,5],[6,6,6,8],[7,6,7,8],[27,1,27,15],[31,4,31,5],[29,0,29,15],[20,1,20,7],[2,14,2,15],[1,1,1,11],[2,1,2,11],[3,1,3,11],[1,14,1,15],[4,4,4,7],[5,4,5,7],[18,7,18,10],[18,11,18,15],[17,1,17,8],[17,9,17,15],[15,1,15,8],[15,9,15,15],[18,1,18,6],[14,1,14,8],[14,9,14,15],[9,1,9,6],[9,7,9,15],[13,13,13,15],[13,11,13,12],[25,9,25,15],[22,14,22,15],[23,14,23,15],[24,14,24,15],[22,11,22,12],[23,11,23,12],[24,11,24,12],[25,2,25,8],[26,1,26,15],[22,7,22,8],[23,7,23,8],[24,7,24,8],[16,1,16,15],[19,10,19,15],[20,9,20,15],[21,1,21,7],[22,1,22,6],[23,1,23,6],[24,1,24,6],[21,14,21,15],[21,11,21,12],[19,1,19,9],[33,0,34,1],[32,0,32,1],[32,2,32,5],[33,13,34,13],[33,10,34,10],[28,0,28,15],[33,6,34,6],[35,6,36,6],[37,6,38,6],[33,8,34,8],[33,7,34,7],[35,7,36,7],[35,8,36,8],[37,7,38,7],[37,8,38,8],[35,13,36,13],[37,13,38,13],[30,2,30,5],[30,0,31,1],[37,10,38,10],[33,11,34,11],[35,11,36,11],[37,11,38,11],[33,15,34,15],[44,8,44,13],[43,1,43,5],[44,1,44,5],[45,1,45,5],[45,6,45,7],[44,6,44,7],[43,6,43,7],[43,8,43,9],[39,7,40,7],[39,12,40,12],[41,12,42,12],[39,10,40,10],[41,10,42,10],[39,11,40,11],[41,11,42,11],[55,10,55,15],[54,10,54,15],[50,10,50,15],[41,0,42,1],[39,0,40,1],[37,0,38,1],[35,0,36,1],[46,1,46,5],[46,6,46,7],[39,8,40,8],[41,7,42,7],[41,8,42,8],[52,1,52,5],[48,6,52,9],[48,10,49,15],[51,10,52,15],[53,1,53,15],[54,1,54,9],[55,1,55,9],[45,8,45,13],[39,13,40,13],[41,13,42,13],[39,6,40,6],[41,6,42,6]]}
[null,"  Základní škola Šumperk, Sluneční 38             CESTOVNÍ PŘÍKAZ                 č."]
[null,"  787 01, Šumperk, Sluneční 38",null,null,null,null,null,null,null,null,null,null,"   Osobní číslo ",null,{"$f":"INDIRECT(R4)","v":"-"},null,{"$f":"(D8)","v":"00:00:00"},null,{"$f":"IF(D8=\"\",\"0\",\"1\")","v":"0"},{"$f":"IF(E8=\"\",\"0\",\"1\")","v":"0"},{"$f":"IF(F8=\"\",\"0\",\"1\")","v":"0"},{"$f":"TYPE(E8)","v":1},{"$f":"TYPE(F8)","v":1},{"$f":"K61","v":0},{"$f":"Z61","v":0}]
[null,"  příspěvková organizace",null,null,null,null,null,null,null,null,null,null,"   Útvar",null,null,null,{"$f":"SUM(Q2+1)","v":"1900-01-01"},1,{"$f":"IF(A34=\"\",\"0\",\"1\")","v":"0"},{"$f":"IF(E35=\"\",\"0\",\"1\")","v":"0"},{"$f":"IF(F35=\"\",\"0\",\"1\")","v":"0"},{"$f":"TYPE(E35)","v":1},{"$f":"TYPE(F35)","v":1},{"$f":"K62","v":0},{"$f":"Z62","v":0}]
[null,null,null,null,null,null,null,null,null,null,null,null,"   Telefon, linka",null,{"$f":"INDIRECT(R8)","v":"-"},null,{"$f":"SUM(Q2+2)","v":"1900-01-02"},{"$f":"ADDRESS(R3,3,4,1,\"Seznam\")","v":"Seznam!C1"},{"$f":"IF(A36=\"\",\"0\",\"1\")","v":"0"},{"$f":"IF(E37=\"\",\"0\",\"1\")","v":"0"},{"$f":"IF(F37=\"\",\"0\",\"1\")","v":"0"},{"$f":"TYPE(E37)","v":1},{"$f":"TYPE(F37)","v":1},0,0]
[null,"   1.Příjmení, jméno, titul ",null,null,null,null,null,null,{"$f":"INDIRECT(R9)","v":"-"},null,null,null,"   Normální pracovní doba",null,null,null,{"$f":"SUM(Q2+3)","v":"1900-01-03"},{"$f":"ADDRESS(R3,4,4,1,\"Seznam\")","v":"Seznam!D1"},{"$f":"IF(A38=\"\",\"0\",\"1\")","v":"0"},{"$f":"IF(E39=\"\",\"0\",\"1\")","v":"0"},{"$f":"IF(F39=\"\",\"0\",\"1\")","v":"0"},{"$f":"TYPE(E39)","v":1},{"$f":"TYPE(F39)","v":1},0,0]
[null,"   2. Bydliště ",null,null,null,null,null,null,{"$f":"INDIRECT(R5)","v":"-"},null,null,null,"   od:   ",{"$f":"INDIRECT(R6)","v":"-"},"do:  ",{"$f":"INDIRECT(R7)","v":"-"},{"$f":"SUM(Q2+4)","v":"1900-01-04"},{"$f":"ADDRESS(R3,5,4,1,\"Seznam\")","v":"Seznam!E1"},{"$f":"IF(A40=\"\",\"0\",\"1\")","v":"0"},{"$f":"IF(E41=\"\",\"0\",\"1\")","v":"0"},{"$f":"IF(F41=\"\",\"0\",\"1\")","v":"0"},{"$f":"TYPE(E41)","v":1},{"$f":"TYPE(F41)","v":1},0,0]
[null," Počátek cesty (místo, datum, hodina)",null,null,null,null,"Místo jednání",null,null,"Účel cesty",null,null,"Konec cesty (místo, datum)",null,null,null,{"$f":"SUM(Q2+5)","v":"1900-01-05"},{"$f":"ADDRESS(R3,6,4,1,\"Seznam\")","v":"Seznam!F1"},{"$f":"IF(A42=\"\",\"0\",\"1\")","v":"0"},{"$f":"IF(E43=\"\",\"0\",\"1\")","v":"0"},{"$f":"IF(F43=\"\",\"0\",\"1\")","v":"0"},{"$f":"TYPE(E43)","v":1},{"$f":"TYPE(F43)","v":1},0,0]
[null,{"$f":"INDIRECT(R11)","v":"-"},null,null,null,null,{"$f":"INDIRECT(T11)","v":"-"},null,null,null,null,null,{"$f":"INDIRECT(S11)","v":"-"},null,null,null,{"$f":"SUM(Q2+6)","v":"1900-01-06"},{"$f":"ADDRESS(R3,7,4,1,\"Seznam\")","v":"Seznam!G1"},{"$f":"DATEDIF(D8,O8,\"d\")","v":0},null,null,null,null,0,0]
[null,"   3. Zaměstnanec s pracovní cestou souhlasí ",null,null,null,null,null,null,null,null,"………………………………………………………………………….",null,null,null,null,null,{"$f":"SUM(Q2+7)","v":"1900-01-07"},{"$f":"ADDRESS(R3,2,4,1,\"Seznam\")","v":"Seznam!B1"},null,null,null,null,null,0,0]
[null,null,null,null,null,null,null,"Datum a podpis zaměstnance",null,null,null,null,null,null,null,null,{"$f":"SUM(Q2+8)","v":"1900-01-08"},1,1,1,null,null,null,0,0]
[null,"   4. Spolucestující:                                                                                                                                                           .",null,null,null,null,null,null,null,null,null,null,null,null,null,null,{"$f":"SUM(Q2+9)","v":"1900-01-09"},{"$f":"ADDRESS(R10,5,4,1,\"Data\")","v":"Data!E1"},{"$f":"ADDRESS(S10,5,4,1,\"Data\")","v":"Data!E1"},{"$f":"ADDRESS(T10,4,4,1,\"Data\")","v":"Data!D1"},null,null,null,0,0]
[null,"   5. Určený dopravní prostředek (u vlast. voz. druh, ø spotř. dle TP, druh PH):  ",null,null,null,null,null,null,null,null,null,null,null,null,null,null,{"$f":"SUM(Q2+10)","v":"1900-01-10"},null,null,null,null,null,null,0,0]
[null,"   6. Předpokládaná částka výdajů Kč: ",null,null,null,null,null,null,null,null,null,null,null,null,null,null,{"$f":"SUM(Q2+11)","v":"1900-01-11"},null,null,null,null,null,null,0,0]
[null,"   7. Povolená záloha:",null,null,null,null,null,"vyplacená dne:",null,null,null,"pokl. doklad číslo:",null,null,null,null,{"$f":"SUM(Q2+12)","v":"1900-01-12"},null,null,null,null,null,null,0,0]
[null,"................................................................................    ",null,null,null,null,null,null,null,".........................................................................................",null,null,null,null,null,null,{"$f":"SUM(Q2+13)","v":"1900-01-13"},null,null,null,null,null,null,0,0]
[null,"Podpis pokladníka                                             ",null,null,null,null,null,null,null,"Datum a podpis pracovníka oprávněného k povolení cesty",null,null,null,null,null,null,{"$f":"SUM(Q2+14)","v":"1900-01-14"},null,null,null,null,null,null,0,0]
[null,"  VYÚČTOVÁNÍ PRACOVNÍ CESTY",null,null,null,null,null,null,null,null,null,null,null,null,null,null,{"$f":"SUM(Q2+15)","v":"1900-01-15"},1,null,null,null,null,null,0,0]
[null,"   8. Zpráva o výsledku pracovní cesty byla podána dne:  ",null,null,null,null,null,null,null,null,null,null,null,null,null,null,{"$f":"SUM(Q2+16)","v":"1900-01-16"},{"$f":"ADDRESS(R17,7,4,1,\"Data\")","v":"Data!G1"},null,null,null,null,null,0,0]
[null,"   Se způsobem provedení souhlasí:  ",null,null,null,null,null,null,null,null,null,".........................................................................................",null,null,null,null,{"$f":"SUM(Q2+17)","v":"1900-01-17"},null,null,null,null,null,null,0,0]
[null,null,null,null,null,null,null,null,null,null," Datum a podpis odpovědného pracovníka",null,null,null,null,null,{"$f":"SUM(Q2+18)","v":"1900-01-18"},null,null,null,null,null,null,0,0]
[null,"   9. VÝDAJOVÝ - PŘÍJMOVÝ POKLADNÍ DOKLAD číslo",null,null,null,null,null,null,null,"Účtovací předpis",null,null,null,null,null,null,{"$f":"SUM(Q2+19)","v":"1900-01-19"},0,1,2,3,4,null,0,0]
[null,"   Účtovaná náhrada byla přezkoušena a upravena na",null,null,null,null,null,null,null,"Má dáti","Dal","Částka",null,"Středisko","Zakázka",null,{"$f":"SUM(Q2+20)","v":"1900-01-20"},215,162,108,54,0,null,0,0]
[null,null,null,null,null,null,null,null,null,null,null,null,null,null,null,null,{"$f":"SUM(Q2+21)","v":"1900-01-21"},135,88,41,0,0,null,0,0]
[null,"   Vyplacená záloha",null,null,null,null,null,null,null,null,null,null,null,null,null,null,{"$f":"SUM(Q2+22)","v":"1900-01-22"},90,27,0,0,0,null,0,0]
[null,"   Doplatek - přeplatek",null,null,null,null,null,null,null,null,null,null,null,null,null,null,{"$f":"SUM(Q2+23)","v":"1900-01-23"},0,0,0,0,0,null,0,0]
[null,"   Slovy:",null,null,null,null,null,null,null,"  Poznámka o zaúčtování",null,null,null,null,null,null,{"$f":"SUM(Q2+24)","v":"1900-01-24"},null,null,null,null,null,null,0,0]
[null,"          ...........................................................................         ......................................................       ............................................................................     ........................................................        ",null,null,null,null,null,null,null,null,null,null,null,null,null,null,{"$f":"SUM(Q2+25)","v":"1900-01-25"},null,null,null,null,null,null,0,0]
[null,"    Datum a podpis pracovníka, který upravil vyúčtování             Datum a podpis pokladníka              Datum a podpis příjemce (průkaz totožnosti)               Schválil (datum a podpis)",null,null,null,null,null,null,null,null,null,null,null,null,null,null,{"$f":"SUM(Q2+26)","v":"1900-01-26"},null,null,null,null,null,null,0,0]
[null,null,null,null,null,null,null,null,null,null,null,null,null,null,null,null,null,null,null,null,null,null,null,{"$f":"SUM(X2:X28)","v":0},{"$f":"SUM(Y2:Y28)","v":0}]
["VYÚČTOVÁNÍ PRACOVNÍ CESTY"]
["Datum",null,"Odjezd - příjezd1)                         Místo jednání podtrhněte",null,null,null,null,null,null,"Počátek a konec pracovního výkonu (hodina)","Jízdné a místní přeprava","Stravné ","Nocležné","Nutné vedlejší výdaje","Celkem","Upraveno"]
[null,null,null,null,"v hod.",null,null,null,null,null,"Kč","Kč","Kč","Kč","Kč","Kč",null,null,null,null,"05:00:00","18:00:00"]
[1,null,2,null,null,null,3,4,5,6,7,8,9,10,11,12,null,null,{"$f":"SUM(M35:N35)","v":0},null,"12:00:00",null,"00:00:00"]
[null,null,"Odjezd   ",null,null,null,null,null,null,null,null,null,null,null,null,null,null,null,1,{"$f":"ADDRESS(S34,4,4,1,\"Data\")","v":"Data!D1"},null,{"$f":"CONCATENATE(E8,\":\",F8)","v":":"},1,{"$f":"IF(Y34=TRUE,4,(X35))","v":{"$error":"#VALUE!"}},{"$f":"AND(W35<U32)","v":{"$error":"#VALUE!"}}]
[null,null,"Příjezd   ",null,null,null,null,null,null,null,null,null,null,null,null,null,null,null,1,{"$f":"ADDRESS(S35,4,4,1,\"Data\")","v":"Data!D1"},{"$f":"SUM(K34+M34+N34+Q35)","v":0},{"$f":"CONCATENATE(E35,\":\",F35)","v":":"},{"$f":"SUM(W34-V34)","v":{"$error":"#VALUE!"}},{"$f":"IF(Y35=TRUE,3,(X36))","v":{"$error":"#VALUE!"}},{"$f":"AND(W35>=U32,W35<=U33)","v":{"$error":"#VALUE!"}}]
[null,null,"Odjezd   ",null,null,null,null,null,null,null,null,null,null,null,null,null,null,null,1,{"$f":"ADDRESS(S36,4,4,1,\"Data\")","v":"Data!D1"},null,":",{"$f":"SUM(V37-W33)","v":{"$error":"#VALUE!"}},{"$f":"IF(Y36=TRUE,2,(X37))","v":{"$error":"#VALUE!"}},{"$f":"AND(W35>U33,W35<=V32)","v":{"$error":"#VALUE!"}}]
[null,null,"Příjezd  ",null,null,null,null,null,null,null,null,null,null,null,null,null,{"$f":"IF(AND(T49>0,T50=0),X29,0)","v":0},null,1,"Data!D1",{"$f":"SUM(K36+M36+N36+Q37)","v":0},":",{"$f":"SUM(V37-V34)","v":{"$error":"#VALUE!"}},{"$f":"IF(Y37=TRUE,1,(X38))","v":{"$error":"#VALUE!"}},{"$f":"AND(W35>V32)","v":{"$error":"#VALUE!"}}]
[null,null,"Odjezd",null,null,null,null,null,null,null,null,null,null,null,null,null,null,null,1,"Data!D1",null,":",{"$f":"SUM(V39-W33)","v":{"$error":"#VALUE!"}}]
[null,null,"Příjezd",null,null,null,null,null,null,null,null,null,null,null,null,null,{"$f":"IF(AND(T50>0,T51=0),X29,0)","v":0},null,1,"Data!D1",{"$f":"SUM(K38+M38+N38+Q39)","v":0},":",{"$f":"SUM(V39-V34)","v":{"$error":"#VALUE!"}},{"$f":"IF(Y39=TRUE,4,(X40))","v":{"$error":"#VALUE!"}},{"$f":"AND(W37<U32)","v":{"$error":"#VALUE!"}},{"$f":"IF(AA39=TRUE,4,(Z40))","v":{"$error":"#VALUE!"}},{"$f":"AND(W39<U32)","v":{"$error":"#VALUE!"}}]
[null,null,"Odjezd",null,null,null,null,null,null,null,null,null,null,null,null,null,null,null,1,"Data!D1",null,":",{"$f":"SUM(V41-W33)","v":{"$error":"#VALUE!"}},{"$f":"IF(Y40=TRUE,3,(X41))","v":{"$error":"#VALUE!"}},{"$f":"AND(W37>=U32,W37<=U33)","v":{"$error":"#VALUE!"}},{"$f":"IF(AA40=TRUE,3,(Z41))","v":{"$error":"#VALUE!"}},{"$f":"AND(W39>=U32,W39<=U33)","v":{"$error":"#VALUE!"}}]
[null,null,"Příjezd",null,null,null,null,null,null,null,null,null,null,null,null,null,{"$f":"IF(AND(T51>0,T52=0),X29,0)","v":0},null,1,"Data!D1",{"$f":"SUM(K40+M40+N40+Q41)","v":0},":",{"$f":"SUM(V41-V34)","v":{"$error":"#VALUE!"}},{"$f":"IF(Y41=TRUE,2,(X42))","v":{"$error":"#VALUE!"}},{"$f":"AND(W37>U33,W37<=V32)","v":{"$error":"#VALUE!"}},{"$f":"IF(AA41=TRUE,2,(Z42))","v":{"$error":"#VALUE!"}},{"$f":"AND(W39>U33,W39<=V32)","v":{"$error":"#VALUE!"}}]
[null,null,"Odjezd",null,null,null,null,null,null,null,null,null,null,null,null,null,null,null,1,"Data!D1",null,":",{"$f":"SUM(V43-W33)","v":{"$error":"#VALUE!"}},{"$f":"IF(Y42=TRUE,1,(X43))","v":{"$error":"#VALUE!"}},{"$f":"AND(W37>V32)","v":{"$error":"#VALUE!"}},{"$f":"IF(AA42=TRUE,1,(Z43))","v":{"$error":"#VALUE!"}},{"$f":"AND(W39>V32)","v":{"$error":"#VALUE!"}}]
[null,null,"Příjezd",null,null,null,null,null,null,null,null,null,null,null,null,null,{"$f":"IF((T52>0),X29,0)","v":0},null,1,"Data!D1",{"$f":"SUM(K42+M42+N42+Q43)","v":0},":",{"$f":"SUM(V43-V34)","v":{"$error":"#VALUE!"}}]
[null,"Stravování bylo poskytnuto bezplatně:",null,null,null,null,null,null," Celkem",null,null,null,null,null,null,null,{"$f":"SUM(Q37:Q43)","v":0},1,{"$f":"ADDRESS(R44,8,4,1,\"Data\")","v":"Data!H1"},{"$f":"DATEDIF(D8,A36,\"d\")","v":0},{"$f":"SUM(T44)+1","v":1},null,null,{"$f":"IF(Y44=TRUE,4,(X45))","v":{"$error":"#VALUE!"}},{"$f":"AND(W41<U32)","v":{"$error":"#VALUE!"}},{"$f":"IF(AA44=TRUE,4,(Z45))","v":{"$error":"#VALUE!"}},{"$f":"AND(W43<U32)","v":{"$error":"#VALUE!"}}]
[null,"Ubytování bylo poskytnuto bezplatně:",null,null,null,null,null,null," Záloha",null,null,null,null,null,null,null,{"$f":"SUM(K34:K43)","v":0},1,{"$f":"ADDRESS(R45,8,4,1,\"Data\")","v":"Data!H1"},{"$f":"DATEDIF(D8,A38,\"d\")","v":0},{"$f":"SUM(T45)+1","v":1},null,null,{"$f":"IF(Y45=TRUE,3,(X46))","v":{"$error":"#VALUE!"}},{"$f":"AND(W41>=U32,W41<=U33)","v":{"$error":"#VALUE!"}},{"$f":"IF(AA45=TRUE,3,(Z46))","v":{"$error":"#VALUE!"}},{"$f":"AND(W43>=U32,W43<=U33)","v":{"$error":"#VALUE!"}}]
[null,"Jízdenka zdarma jako doprovod dětí:",null,null,null,null,null,null," Doplatek - Přeplatek",null,null,null,null,null,null,null,{"$f":"SUM(M34:M43)","v":0},1,{"$f":"ADDRESS(R46,8,4,1,\"Data\")","v":"Data!H1"},{"$f":"DATEDIF(D8,A40,\"d\")","v":0},1,null,null,{"$f":"IF(Y46=TRUE,2,(X47))","v":{"$error":"#VALUE!"}},{"$f":"AND(W41>U33,W41<=V32)","v":{"$error":"#VALUE!"}},{"$f":"IF(AA46=TRUE,2,(Z47))","v":{"$error":"#VALUE!"}},{"$f":"AND(W43>U33,W43<=V32)","v":{"$error":"#VALUE!"}}]
[null,"Pobírám odlučné:",null,null,null,null,null,null,null,null,null,null,null,null,null,null,{"$f":"SUM(N34:N43)","v":0},1,{"$f":"ADDRESS(R47,8,4,1,\"Data\")","v":"Data!H1"},{"$f":"DATEDIF(D8,A42,\"d\")","v":0},1,null,null,{"$f":"IF(Y47=TRUE,1,(X48))","v":{"$error":"#VALUE!"}},{"$f":"AND(W41>V32)","v":{"$error":"#VALUE!"}},{"$f":"IF(AA47=TRUE,1,(Z48))","v":{"$error":"#VALUE!"}},{"$f":"AND(W43>V32)","v":{"$error":"#VALUE!"}}]
[null,null,null,null,null,null,null,null,null,null,null,null,null,null,null,null,{"$f":"SUM(Q44:Q47)","v":0}]
[null,"O - osobní vlak",null,"AUS - auto služební",null,null,null,null,null,null,null,null,null,null,null,null,{"$f":"SUM(Q48-O45)","v":0},null,null,{"$f":"IFERROR(U44,0)","v":1},0,{"$f":"IF(W49=TRUE,4,(V50))","v":{"$error":"#VALUE!"}},{"$f":"AND(W36<U32)","v":{"$error":"#VALUE!"}},{"$f":"IF(Y49=TRUE,4,(X50))","v":{"$error":"#VALUE!"}},{"$f":"AND(W38<U32)","v":{"$error":"#VALUE!"}},{"$f":"IF(AA49=TRUE,4,(Z50))","v":{"$error":"#VALUE!"}},{"$f":"AND(W40<U32)","v":{"$error":"#VALUE!"}},{"$f":"IF(AC49=TRUE,4,(AB50))","v":{"$error":"#VALUE!"}},{"$f":"AND(W42<U32)","v":{"$error":"#VALUE!"}}]
[null,"R - rychlík",null,"AUV - auto vlastní",null,null,null,null,null,null,null,null,null,null,null,null,null,null,null,{"$f":"IFERROR(U45,0)","v":1},{"$f":"MAX(T49,T50,T51,T52)","v":1},{"$f":"IF(W50=TRUE,3,(V51))","v":{"$error":"#VALUE!"}},{"$f":"AND(W36>=U32,W36<=U33)","v":{"$error":"#VALUE!"}},{"$f":"IF(Y50=TRUE,3,(X51))","v":{"$error":"#VALUE!"}},{"$f":"AND(W38>=U32,W38<=U33)","v":{"$error":"#VALUE!"}},{"$f":"IF(AA50=TRUE,3,(Z51))","v":{"$error":"#VALUE!"}},{"$f":"AND(W40>=U32,W40<=U33)","v":{"$error":"#VALUE!"}},{"$f":"IF(AC50=TRUE,3,(AB51))","v":{"$error":"#VALUE!"}},{"$f":"AND(W42>=U32,W42<=U33)","v":{"$error":"#VALUE!"}}]
[null,"A  - autobus",null,"MOS - motocykl služ.",null,null,null,null,null,null,"Prohlašuji, že jsem všechny údaje uvedl úplně a správně.",null,null,null,null,null,1,null,null,1,null,{"$f":"IF(W51=TRUE,2,(V52))","v":{"$error":"#VALUE!"}},{"$f":"AND(W36>U33,W36<=V32)","v":{"$error":"#VALUE!"}},{"$f":"IF(Y51=TRUE,2,(X52))","v":{"$error":"#VALUE!"}},{"$f":"AND(W38>U33,W38<=V32)","v":{"$error":"#VALUE!"}},{"$f":"IF(AA51=TRUE,2,(Z52))","v":{"$error":"#VALUE!"}},{"$f":"AND(W40>U33,W40<=V32)","v":{"$error":"#VALUE!"}},{"$f":"IF(AC51=TRUE,2,(AB52))","v":{"$error":"#VALUE!"}},{"$f":"AND(W42>U33,W42<=V32)","v":{"$error":"#VALUE!"}}]
[null,"L  - letadlo",null,"P - pěšky","K - kolo",null,null,null,null,null,null,null,null,null,null,null,null,{"$f":"ADDRESS(Q51,9,4,1,\"Data\")","v":"Data!I1"},null,1,null,{"$f":"IF(W52=TRUE,1,(V53))","v":{"$error":"#VALUE!"}},{"$f":"AND(W36>V32)","v":{"$error":"#VALUE!"}},{"$f":"IF(Y52=TRUE,1,(X53))","v":{"$error":"#VALUE!"}},{"$f":"AND(W38>V32)","v":{"$error":"#VALUE!"}},{"$f":"IF(AA52=TRUE,1,(Z53))","v":{"$error":"#VALUE!"}},{"$f":"AND(W40>V32)","v":{"$error":"#VALUE!"}},{"$f":"IF(AC52=TRUE,1,(AB53))","v":{"$error":"#VALUE!"}},{"$f":"AND(W42>V32)","v":{"$error":"#VALUE!"}}]
[]
[null,"1) Dobu odjezdu a příjezdu u veřejného dopravního prostředku vyplňte podle jízdního řádu.",null,null,null,null,null,null,null,null,null,null,null,null,null,null,null,null,false,{"$f":"IF(S54,1,0)","v":0}]
[null,"2) Uvádějte ve zkratce.",null,null,null,null,null,null,null,null,"................................................................................"]
[null,"3) Počet km uvádějte jen při použití jiného než veřejného dopravního prostředku.",null,null,null,null,null,null,null,null,"datum a podpis pracovníka"]
[]
[]
[null,null,"Pracovník označí zaškrtnutím jídlo poskytnuté v rámci služební cesty (pracovník ho neplatil z vlastních prostředků)"]

{"sheet":"Doplnění CP","index":1,"n_rows":48,"n_cols":27,"rows_kept":48,"cut":false,"hidden":false,"merged":[[53,1,53,15],[54,1,54,9],[54,10,54,15],[55,1,55,9],[55,10,55,15],[50,1,50,2],[50,3,50,5],[50,10,50,15],[51,1,51,2],[51,4,51,5],[51,10,52,15],[52,1,52,5],[46,1,46,5],[46,6,46,7],[46,8,46,15],[48,1,48,2],[48,3,48,5],[48,6,52,9],[48,10,49,15],[49,1,49,2],[49,3,49,5],[47,1,47,9],[47,10,47,15],[45,1,45,5],[45,6,45,7],[45,8,45,13],[41,13,42,13],[41,14,42,14],[41,15,42,15],[43,1,43,5],[43,6,43,7],[43,8,43,9],[39,15,40,15],[41,0,42,1],[41,6,42,6],[41,7,42,7],[41,8,42,8],[41,10,42,10],[41,11,42,11],[41,12,42,12],[44,1,44,5],[44,6,44,7],[44,8,44,13],[39,0,40,1],[39,6,40,6],[39,7,40,7],[39,8,40,8],[39,10,40,10],[39,11,40,11],[39,12,40,12],[39,13,40,13],[39,14,40,14],[35,13,36,13],[35,14,36,14],[35,15,36,15],[37,0,38,1],[37,6,38,6],[37,7,38,7],[37,8,38,8],[37,10,38,10],[37,11,38,11],[37,12,38,12],[37,13,38,13],[37,14,38,14],[37,15,38,15],[35,0,36,1],[35,6,36,6],[35,7,36,7],[35,8,36,8],[35,10,36,10],[35,11,36,11],[35,12,36,12],[25,2,25,8],[25,9,25,15],[26,1,26,15],[27,1,27,15],[28,0,28,15],[29,0,29,15],[33,13,34,13],[33,14,34,14],[33,15,34,15],[33,6,34,6],[33,7,34,7],[33,8,34,8],[33,10,34,10],[33,11,34,11],[33,12,34,12],[30,0,31,1],[30,2,30,5],[31,4,31,5],[32,0,32,1],[32,2,32,5],[33,0,34,1],[23,1,23,6],[23,11,23,12],[23,14,23,15],[24,1,24,6],[24,11,24,12],[24,14,24,15],[21,1,21,7],[21,11,21,12],[21,14,21,15],[22,1,22,6],[22,11,22,12],[22,14,22,15],[22,7,22,8],[23,7,23,8],[24,7,24,8],[11,1,11,11],[11,12,11,15],[18,1,18,6],[18,7,18,10],[18,11,18,15],[19,1,19,9],[19,10,19,15],[20,1,20,7],[20,9,20,15],[14,1,14,8],[14,9,14,15],[15,1,15,8],[15,9,15,15],[16,1,16,15],[17,1,17,8],[17,9,17,15],[0,1,0,15],[1,1,1,11],[1,12,1,13],[1,14,1,15],[2,1,2,11],[2,12,2,13],[2,14,2,15],[6,12,6,15],[7,1,7,2],[7,6,7,8],[7,9,7,11],[7,12,7,13],[7,14,7,15],[5,1,5,3],[5,4,5,7],[5,8,5,11],[6,1,6,5],[6,6,6,8],[6,9,6,11],[39,25,40,25],[39,26,40,26],[41,25,42,25],[41,26,42,26],[3,1,3,11],[3,12,3,13],[3,14,3,15],[4,1,4,3],[4,4,4,7],[4,8,4,11],[4,12,4,15],[12,1,12,6],[12,7,12,15],[13,1,13,3],[13,4,13,6],[13,7,13,8],[13,9,13,10],[13,11,13,12],[13,13,13,15],[8,1,8,8],[9,1,9,6],[9,7,9,15],[10,1,10,3],[10,4,10,15],[35,23,36,23],[35,24,36,24],[37,21,38,21],[37,22,38,22],[37,23,38,23],[37,24,38,24],[33,25,34,25],[33,26,34,26],[35,25,36,25],[35,26,36,26],[37,25,38,25],[37,26,38,26],[33,18,34,18],[35,18,36,18],[37,18,38,18],[39,18,40,18],[41,18,42,18],[39,21,40,21],[39,22,40,22],[39,23,40,23],[39,24,40,24],[41,21,42,21],[41,22,42,22],[41,23,42,23],[41,24,42,24],[33,19,34,19],[35,19,36,19],[37,19,38,19],[39,19,40,19],[41,19,42,19],[33,21,34,21],[33,22,34,22],[33,23,34,23],[33,24,34,24],[35,21,36,21],[35,22,36,22]]}
[]
[]
[]
[]
[]
[]
[]
[]
[]
[]
[]
[]
[]
[]
[]
[]
[]
[null,null,null,null,null,null,null,null,null,{"$f":"IF(U18>0,U18,\" \")","v":" "},null,null,null,null,null,null,null,null,null,null,{"$f":"('Cestovní příkaz'!$J$18)","v":0}]
[null,null,null,null,null,null,null,{"$f":"INDIRECT('Cestovní příkaz'!$R$18)","v":"-"}]
[]
[]
[]
[null,null,null,null,null,null,null,{"$f":"IF(S23>0,S23,\" \")","v":" "},null,null,null,null,null,null,null,null,null,null,{"$f":"('Cestovní příkaz'!H$23)","v":0}]
[null,null,null,null,null,null,null,{"$f":"IF(S24>0,S24,\" \")","v":" "},null,null,null,null,null,null,null,null,null,null,{"$f":"('Cestovní příkaz'!H$24)","v":0}]
[null,null,null,null,null,null,null,{"$f":"IF(S25>0,S25,\" \")","v":" "},null,null,null,null,null,null,null,null,null,null,{"$f":"('Cestovní příkaz'!H$25)","v":0}]
[null,null,{"$f":"IF(Q26>0,Q26,\" \")","v":" "},null,null,null,null,null,null,null,null,null,null,null,null,null,{"$f":"('Cestovní příkaz'!C$26)","v":0}]
[]
[]
[]
[]
[]
[]
[]
[{"$f":"('Cestovní příkaz'!$A$34)","v":0},null,null,{"$f":"INDIRECT('Cestovní příkaz'!$T$34)","v":"-"},{"$f":"IF('Cestovní příkaz'!T49>0,Q34,\" \")","v":0},{"$f":"IF('Cestovní příkaz'!T49>0,R34,\" \")","v":0},{"$f":"('Cestovní příkaz'!$G$34)","v":0},{"$f":"IF(S34>0,S34,\" \")","v":" "},{"$f":"IF(T34>0,T34,\" \")","v":" "}," "," "," "," "," "," "," ",{"$f":"('Cestovní příkaz'!$E$34)","v":0},{"$f":"('Cestovní příkaz'!$F$34)","v":0},{"$f":"('Cestovní příkaz'!$H$34)","v":0},{"$f":"('Cestovní příkaz'!$I$34)","v":0},{"$f":"('Cestovní příkaz'!$J$34)","v":"00:00:00"},{"$f":"('Cestovní příkaz'!$K$34)","v":0},{"$f":"('Cestovní příkaz'!$Q$35)","v":0},{"$f":"('Cestovní příkaz'!$M$34)","v":0},{"$f":"('Cestovní příkaz'!$N$34)","v":0},{"$f":"('Cestovní příkaz'!$U$35)","v":0},{"$f":"('Cestovní příkaz'!$P$34)","v":0}]
[null,null,null,{"$f":"INDIRECT('Cestovní příkaz'!$T$35)","v":"-"},{"$f":"IF('Cestovní příkaz'!T49>0,Q35,\" \")","v":0},{"$f":"IF('Cestovní příkaz'!T49>0,R35,\" \")","v":0},null,null,null,{"$f":"IF(U35>0,U35,\" \")","v":" "},null,null,null,null,null,null,{"$f":"('Cestovní příkaz'!$E$35)","v":0},{"$f":"('Cestovní příkaz'!$F$35)","v":0},null,null,{"$f":"('Cestovní příkaz'!$J$35)","v":"00:00:00"}]
[{"$f":"('Cestovní příkaz'!$A$36)","v":0},null,null,{"$f":"INDIRECT('Cestovní příkaz'!$T$36)","v":"-"},{"$f":"IF('Cestovní příkaz'!T49>0,Q36,\" \")","v":0},{"$f":"IF('Cestovní příkaz'!T49>0,R36,\" \")","v":0},{"$f":"('Cestovní příkaz'!$G$36)","v":0},{"$f":"IF(S36>0,S36,\" \")","v":" "},{"$f":"IF(T36>0,T36,\" \")","v":" "}," ",{"$f":"IF(V36>0,V36,\" \")","v":" "}," "," "," "," "," ",{"$f":"('Cestovní příkaz'!$E$36)","v":0},{"$f":"('Cestovní příkaz'!$F$36)","v":0},{"$f":"('Cestovní příkaz'!$H$36)","v":0},{"$f":"('Cestovní příkaz'!$I$36)","v":0},{"$f":"('Cestovní příkaz'!$J$36)","v":"00:00:00"},{"$f":"('Cestovní příkaz'!$K$36)","v":0},{"$f":"('Cestovní příkaz'!$Q$37)","v":0},{"$f":"('Cestovní příkaz'!$M$36)","v":0},{"$f":"('Cestovní příkaz'!$N$36)","v":0},{"$f":"('Cestovní příkaz'!$U$37)","v":0},{"$f":"('Cestovní příkaz'!$P$36)","v":0}]
[null,null,null,{"$f":"INDIRECT('Cestovní příkaz'!$T$37)","v":"-"},{"$f":"IF('Cestovní příkaz'!T49>0,Q37,\" \")","v":0},{"$f":"IF('Cestovní příkaz'!T49>0,R37,\" \")","v":0},null,null,null," ",null,null,null,null,null,null,{"$f":"('Cestovní příkaz'!$E$37)","v":0},{"$f":"('Cestovní příkaz'!$F$37)","v":0},null,null,{"$f":"('Cestovní příkaz'!$J$37)","v":"00:00:00"}]
[{"$f":"('Cestovní příkaz'!$A$38)","v":0},null,null,{"$f":"INDIRECT('Cestovní příkaz'!$T$38)","v":"-"},{"$f":"IF('Cestovní příkaz'!T50>0,Q38,\" \")","v":0},{"$f":"IF('Cestovní příkaz'!T50>0,R38,\" \")","v":0},{"$f":"('Cestovní příkaz'!$G$38)","v":0},{"$f":"IF(S38>0,S38,\" \")","v":" "},{"$f":"IF(T38>0,T38,\" \")","v":" "}," ",{"$f":"IF(V38>0,V38,\" \")","v":" "}," "," "," "," "," ",{"$f":"('Cestovní příkaz'!$E$38)","v":0},{"$f":"('Cestovní příkaz'!$F$38)","v":0},{"$f":"('Cestovní příkaz'!$H$38)","v":0},{"$f":"('Cestovní příkaz'!$I$38)","v":0},{"$f":"('Cestovní příkaz'!$J$38)","v":"00:00:00"},{"$f":"('Cestovní příkaz'!$K$38)","v":0},{"$f":"('Cestovní příkaz'!$Q$39)","v":0},{"$f":"('Cestovní příkaz'!$M$38)","v":0},{"$f":"('Cestovní příkaz'!$N$38)","v":0},{"$f":"('Cestovní příkaz'!$U$39)","v":0},{"$f":"('Cestovní příkaz'!$P$38)","v":0}]
[null,null,null,{"$f":"INDIRECT('Cestovní příkaz'!$T$39)","v":"-"},{"$f":"IF('Cestovní příkaz'!T50>0,Q39,\" \")","v":0},{"$f":"IF('Cestovní příkaz'!T50>0,R39,\" \")","v":0},null,null,null," ",null,null,null,null,null,null,{"$f":"('Cestovní příkaz'!$E$39)","v":0},{"$f":"('Cestovní příkaz'!$F$39)","v":0},null,null,{"$f":"('Cestovní příkaz'!$J$39)","v":"00:00:00"}]
[{"$f":"('Cestovní příkaz'!$A$40)","v":0},null,null,{"$f":"INDIRECT('Cestovní příkaz'!$T$40)","v":"-"},{"$f":"IF('Cestovní příkaz'!T51>0,Q40,\" \")","v":0},{"$f":"IF('Cestovní příkaz'!T51>0,R40,\" \")","v":0},{"$f":"('Cestovní příkaz'!$G$40)","v":0},{"$f":"IF(S40>0,S40,\" \")","v":" "},{"$f":"IF(T40>0,T40,\" \")","v":" "}," ",{"$f":"IF(V40>0,V40,\" \")","v":" "}," "," "," "," "," ",{"$f":"('Cestovní příkaz'!$E$40)","v":0},{"$f":"('Cestovní příkaz'!$F$40)","v":0},{"$f":"('Cestovní příkaz'!$H$40)","v":0},{"$f":"('Cestovní příkaz'!$I$40)","v":0},{"$f":"('Cestovní příkaz'!$J$40)","v":"00:00:00"},{"$f":"('Cestovní příkaz'!$K$40)","v":0},{"$f":"('Cestovní příkaz'!$Q$41)","v":0},{"$f":"('Cestovní příkaz'!$M$40)","v":0},{"$f":"('Cestovní příkaz'!$N$40)","v":0},{"$f":"('Cestovní příkaz'!$U$41)","v":0},{"$f":"('Cestovní příkaz'!$P$40)","v":0}]
[null,null,null,{"$f":"INDIRECT('Cestovní příkaz'!$T$41)","v":"-"},{"$f":"IF('Cestovní příkaz'!T51>0,Q41,\" \")","v":0},{"$f":"IF('Cestovní příkaz'!T51>0,R41,\" \")","v":0},null,null,null," ",null,null,null,null,null,null,{"$f":"('Cestovní příkaz'!$E$41)","v":0},{"$f":"('Cestovní příkaz'!$F$41)","v":0},null,null,{"$f":"('Cestovní příkaz'!$J$41)","v":"00:00:00"}]
[{"$f":"('Cestovní příkaz'!$A$42)","v":0},null,null,{"$f":"INDIRECT('Cestovní příkaz'!$T$42)","v":"-"},{"$f":"IF('Cestovní příkaz'!T52>0,Q42,\" \")","v":0},{"$f":"IF('Cestovní příkaz'!T52>0,R42,\" \")","v":0},{"$f":"('Cestovní příkaz'!$G$42)","v":0},{"$f":"IF(S42>0,S42,\" \")","v":" "},{"$f":"IF(T42>0,T42,\" \")","v":" "}," ",{"$f":"IF(V42>0,V42,\" \")","v":" "}," "," "," "," "," ",{"$f":"('Cestovní příkaz'!$E$42)","v":0},{"$f":"('Cestovní příkaz'!$F$42)","v":0},{"$f":"('Cestovní příkaz'!$H$42)","v":0},{"$f":"('Cestovní příkaz'!$I$42)","v":0},{"$f":"('Cestovní příkaz'!$J$42)","v":"00:00:00"},{"$f":"('Cestovní příkaz'!$K$42)","v":0},{"$f":"('Cestovní příkaz'!$Q$43)","v":0},{"$f":"('Cestovní příkaz'!$M$42)","v":0},{"$f":"('Cestovní příkaz'!$N$42)","v":0},{"$f":"('Cestovní příkaz'!$U$43)","v":0},{"$f":"('Cestovní příkaz'!$P$42)","v":0}]
[null,null,null,{"$f":"INDIRECT('Cestovní příkaz'!$T$43)","v":"-"},{"$f":"IF('Cestovní příkaz'!T52>0,Q43,\" \")","v":0},{"$f":"IF('Cestovní příkaz'!T52>0,R43,\" \")","v":0},null,null,null," ",null,null,null,null,null,null,{"$f":"('Cestovní příkaz'!$E$43)","v":0},{"$f":"('Cestovní příkaz'!$F$43)","v":0},null,null,{"$f":"('Cestovní příkaz'!$J$43)","v":"00:00:00"}]
[null,null,null,null,null,null,{"$f":"INDIRECT('Cestovní příkaz'!$S$44)","v":"ne"},null,null,null,{"$f":"IF(V44>0,V44,\" \")","v":" "}," "," "," "," "," ",null,null,null,null,null,{"$f":"('Cestovní příkaz'!$Q$45)","v":0},{"$f":"('Cestovní příkaz'!$Q$44)","v":0},{"$f":"('Cestovní příkaz'!$Q$46)","v":0},{"$f":"('Cestovní příkaz'!$Q$47)","v":0},{"$f":"('Cestovní příkaz'!$Q$48)","v":0},{"$f":"('Cestovní příkaz'!$P$44)","v":0}]
[null,null,null,null,null,null,{"$f":"INDIRECT('Cestovní příkaz'!$S$45)","v":"ne"},null,null,null,null,null,null,null,{"$f":"IF(Z45>0,Z45,\" \")","v":" "},{"$f":"IF(AA45>0,AA45,\" \")","v":" "},null,null,null,null,null,null,null,null,null,{"$f":"('Cestovní příkaz'!$O$45)","v":0},{"$f":"('Cestovní příkaz'!$P$45)","v":0}]
[null,null,null,null,null,null,{"$f":"INDIRECT('Cestovní příkaz'!$S$46)","v":"ne"},null,null,null,null,null,null,null,{"$f":"IF(Z46>0,Z46,\" \")","v":" "},{"$f":"IF(AA46>0,AA46,\" \")","v":" "},null,null,null,null,null,null,null,null,null,{"$f":"('Cestovní příkaz'!$Q$49)","v":0},{"$f":"('Cestovní příkaz'!$P$46)","v":0}]
[null,null,null,null,null,null,{"$f":"INDIRECT('Cestovní příkaz'!$S$47)","v":"ne"}]
[null,null,null,null,null,null,null,null,null,null,{"$f":"INDIRECT('Cestovní příkaz'!$R$52)","v":"-"}]

{"sheet":"Seznam","index":2,"n_rows":47,"n_cols":7,"rows_kept":47,"cut":false,"hidden":false,"merged":[]}
[null,"-","-","-","-","-","-"]
[1,"Andrésová Miluše",1319,"-","-","-",583550316]
[2,"Bartošová Iveta",3394,"-","-","-",583550306]
[3,"Beil Jaroslav",4717,"-","-","-",5835503]
[4,"Cekrová Jana, Mgr.",9555,"-","-","-",583550315]
[5,"Dvořáková Stanislava",55720,"-","-","-",583550318]
[6,"Halama Petr, Mgr.",24001,"-","-","-",583550354]
[7,"Hejlová Lenka, Mgr.",25516,"-","-","-",583550355]
[8,"Hruda Jiří, DiS",29540,"-","-","-",583550352]
[9,"Hubáčková Marcela",19116,"-","-","-",583550307]
[10,"Janíček Viktor, Bc. Ing. ",77927,"-","-","-",583550304]
[11,"Kirkosová Dana, Mgr.",38709,"-","-","-",583550305]
[12,"Klein Pavel, Mgr.",39115,"-","-","-",583550320]
[13,"Klomfarová Monika, Mgr.",39435,"-","-","-",583550313]
[14,"Kočí Ladislav, Mgr.",40147,"-","-","-",583550319]
[15,"Komendová Renáta, Mgr.",41106,"-","-","-",583550301]
[16,"Kubíková Kateřina, Bc.",43690,"-","-","-",583550318]
[17,"Kučerová Jitka, Bc.",43711,"-","-","-",583550311]
[18,"Langerová Dagmar",46565,"-","-","-",583550351]
[19,"Linhart Květoslav, Mgr.",484861,"-","-","-",583550317]
[20,"Medřická Ivana, Mgr.",50301,"-","-","-",583550311]
[21,"Nétek Jiří, Mgr.",55119,"-","-","-",583550318]
[22,"Nétková Tereza, Mgr.",55328,"-","-","-",583550313]
[23,"Osladilová Jarmila",57705,"-","-","-",583550306]
[24,"Ospálková Zuzana, Mgr.",57753,"-","-","-",583550350]
[25,"Pálka Hynek, PaedDr.",58524,"-","-","-",583550302]
[26,"Pavelková Andrea, Bc. Mgr.",59272,"-","-","-",583550350]
[27,"Pavelková Jindra, Mgr.",59340,"-","-","-",583550314]
[28,"Poisl Robert, Mgr.",62711,"-","-","-",583550320]
[29,"Pospíšil Tomáš, Mgr.",63742,"-","-","-",583550320]
[30,"Pummová Bronislava, Mgr.",66117,"-","-","-",583550309]
[31,"Reichlová Hana, DiS",67911,"-","-","-",583550311]
[32,"Rygar Přemysl, Mgr.",70523,"-","-","-",583550305]
[33,"Rygarová Marta",70527,"-","-","-",583550315]
[34,"Skopalová Pavla, Mgr.",76193,"-","-","-",583550311]
[35,"Skříček Jiří, Mgr.",76158,"-","-","-",583550314]
[36,"Sochorová Kateřina, Mgr.",76907,"-","-","-",583550355]
[37,"Sopper Luděk, Mgr.",77321,"-","-","-",583550303]
[38,"Srovnalová Alena",78107,"-","-","-",583550309]
[39,"Stuchlý Jaroslav, Mgr.",78641,"-","-","-",583550312]
[40,"Šalková Eva, Mgr.",24128,"-","-","-",583550315]
[41,"Turek Patrik",87317,"-","-","-",583550317]
[42,"Tylšarová Hana, Bc.",87900,"-","-","-",583550313]
[43,"Valentová Miroslava",90907,"-","-","-",583550353]
[44,"Vařílek Lenka, Mgr.",96575,"-","-","-",583550318]
[45,"Závodná Hana, Mgr.",96576,"-","-","-",583550309]
[46,"Zelený Michal, Mgr.",96744,"-","-","-",583550316]

{"sheet":"Data","index":3,"n_rows":60,"n_cols":9,"rows_kept":60,"cut":false,"hidden":false,"merged":[]}
["00",null,null,"-","-","-","-","ne","-"]
["01",null,null,"Šumperk, Sluneční 38","Šumperk, Sluneční 38","O","ANO - ÚSTNĚ","ano","Doba pracovního výkonu se rovná času pracovní cesty"]
["02",null,null,"Šumperk, ČD","Šumperk, nádraží ČD","R"]
["03",null,null,"Šumperk, BUS","Šumperk, nádraží BUS","A"]
["04",null,null,"Šumperk","Šumperk","L"]
["05",null,null,"Bludov",null,"AUS"]
["06",null,null,"Brno",null,"AUV"]
["07",null,null,"Červená Voda",null,"MOS"]
["08",null,null,"Horní Bohdíkov",null,"P"]
["09",null,null,"Hraběšice",null,"K"]
[10,null,null,"Hranice na Mor.",null,"MHD"]
[11,null,null,"Hynčice pod Sušinou"]
[12,null,null,"Kouty nad Des."]
[13,null,null,"Loučná nad Des."]
[14,null,null,"Mladoňov"]
[15,null,null,"Mohelnice"]
[16,null,null,"Olomouc"]
[17,null,null,"Ostrava"]
[18,null,null,"Ostružná"]
[19,null,null,"Petrov nad Des."]
[20,null,null,"Praha"]
[21,null,null,"Prostějov"]
[22,null,null,"Přerov"]
[23,null,null,"Ramzová"]
[24,null,null,"Rapotín"]
[25,null,null,"Rejchartice"]
[26,null,null,"Ruda na Mor."]
[27,null,null,"Sobotín"]
[29,null,null,"Staré Město p. Sněž."]
[30,null,null,"Třemešek u Oskavy"]
[31,null,null,"Velká Kraš"]
[32,null,null,"Velké Losiny"]
[33,null,null,"Vernířovice"]
[34,null,null,"Vikýřovice"]
[null,null,null,"Liberec"]
[35,null,null,"konec cesty"]
[36,null,null,"Zábřeh na Moravě"]
[37,null,null,"Moravičany"]
[38]
[39]
[40]
[41]
[42]
[43]
[44]
[45]
[46]
[47]
[48]
[49]
[50]
[51]
[52]
[53]
[54]
[55]
[56]
[57]
[58]
[59]